BEGIN:VCALENDAR
VERSION:2.0
PRODID:-//wp-events-plugin.com//7.2.3.1//EN
TZID:Europe/Zurich
X-WR-TIMEZONE:Europe/Zurich
BEGIN:VEVENT
UID:157@psegg.ch
DTSTART;TZID=Europe/Zurich:20220826T180000
DTEND;TZID=Europe/Zurich:20220826T200000
DTSTAMP:20240117T080133Z
URL:https://www.psegg.ch/events/windeggschiessen-2/
SUMMARY:Windeggschiessen
DESCRIPTION:
CATEGORIES:Auswärts,Wettkampf
LOCATION:Schützenhaus Wald\, Schützenstrasse 4\, 8636 Wald\, Schweiz
GEO:47.272642;8.907958
X-APPLE-STRUCTURED-LOCATION;VALUE=URI;X-ADDRESS=Schützenstrasse 4\, 8636 W
 ald\, Schweiz;X-APPLE-RADIUS=100;X-TITLE=Schützenhaus Wald:geo:47.272642,
 8.907958
END:VEVENT
BEGIN:VTIMEZONE
TZID:Europe/Zurich
X-LIC-LOCATION:Europe/Zurich
BEGIN:DAYLIGHT
DTSTART:20220327T030000
TZOFFSETFROM:+0100
TZOFFSETTO:+0200
TZNAME:CEST
END:DAYLIGHT
END:VTIMEZONE
END:VCALENDAR