BEGIN:VCALENDAR
VERSION:2.0
PRODID:-//wp-events-plugin.com//7.2.3.1//EN
TZID:Europe/Zurich
X-WR-TIMEZONE:Europe/Zurich
BEGIN:VEVENT
UID:159@psegg.ch
DTSTART;TZID=Europe/Zurich:20221119T140000
DTEND;TZID=Europe/Zurich:20221119T170000
DTSTAMP:20240116T154258Z
URL:https://www.psegg.ch/events/ustertag-schiessen/
SUMMARY:Ustertag Schiessen
DESCRIPTION:
CATEGORIES:Auswärts,Wettkampf
LOCATION:Schützenhaus Uster\, Schützenhaus Uster\, 8610 Uster\, Schweiz
GEO:47.361552;8.728134
X-APPLE-STRUCTURED-LOCATION;VALUE=URI;X-ADDRESS=Schützenhaus Uster\, 8610 
 Uster\, Schweiz;X-APPLE-RADIUS=100;X-TITLE=Schützenhaus Uster:geo:47.3615
 52,8.728134
END:VEVENT
BEGIN:VTIMEZONE
TZID:Europe/Zurich
X-LIC-LOCATION:Europe/Zurich
BEGIN:STANDARD
DTSTART:20221030T020000
TZOFFSETFROM:+0200
TZOFFSETTO:+0100
TZNAME:CET
END:STANDARD
END:VTIMEZONE
END:VCALENDAR