BEGIN:VCALENDAR
VERSION:2.0
PRODID:-//wp-events-plugin.com//7.2.3.1//EN
TZID:Europe/Zurich
X-WR-TIMEZONE:Europe/Zurich
BEGIN:VEVENT
UID:198@psegg.ch
DTSTART;TZID=Europe/Zurich:20230630T080000
DTEND;TZID=Europe/Zurich:20230630T160000
DTSTAMP:20240117T081138Z
URL:https://www.psegg.ch/events/thurgauer-kantonales/
SUMMARY:Thurgauer Kantonales
DESCRIPTION:
CATEGORIES:Auswärts,Wettkampf
LOCATION:Schützenhaus Schollenholz\, Schiesssportzentrum Schollenholz\, 85
 00 Frauenfeld\, Schweiz
GEO:47.549613;8.878393
X-APPLE-STRUCTURED-LOCATION;VALUE=URI;X-ADDRESS=Schiesssportzentrum Scholle
 nholz\, 8500 Frauenfeld\, Schweiz;X-APPLE-RADIUS=100;X-TITLE=Schützenhaus
  Schollenholz:geo:47.549613,8.878393
END:VEVENT
BEGIN:VTIMEZONE
TZID:Europe/Zurich
X-LIC-LOCATION:Europe/Zurich
BEGIN:DAYLIGHT
DTSTART:20230326T030000
TZOFFSETFROM:+0100
TZOFFSETTO:+0200
TZNAME:CEST
END:DAYLIGHT
END:VTIMEZONE
END:VCALENDAR