BEGIN:VCALENDAR
VERSION:2.0
PRODID:-//wp-events-plugin.com//7.2.3.1//EN
TZID:Europe/Zurich
X-WR-TIMEZONE:Europe/Zurich
BEGIN:VEVENT
UID:205@psegg.ch
DTSTART;TZID=Europe/Zurich:20240615T093000
DTEND;TZID=Europe/Zurich:20240615T113000
DTSTAMP:20240324T114030Z
URL:https://www.psegg.ch/events/rosenstaedter-rapperswil-3/
SUMMARY:Rosenstädter Rapperswil
DESCRIPTION:
CATEGORIES:Auswärts,Wettkampf
LOCATION:Schiessanlage Grunau\, Schiessanlage Grunau\, 8654 Rapperswil-Jona
 \, Schweiz
GEO:47.240518;8.839643
X-APPLE-STRUCTURED-LOCATION;VALUE=URI;X-ADDRESS=Schiessanlage Grunau\, 8654
  Rapperswil-Jona\, Schweiz;X-APPLE-RADIUS=100;X-TITLE=Schiessanlage Grunau
 :geo:47.240518,8.839643
END:VEVENT
BEGIN:VTIMEZONE
TZID:Europe/Zurich
X-LIC-LOCATION:Europe/Zurich
BEGIN:DAYLIGHT
DTSTART:20240331T030000
TZOFFSETFROM:+0100
TZOFFSETTO:+0200
TZNAME:CEST
END:DAYLIGHT
END:VTIMEZONE
END:VCALENDAR