BEGIN:VCALENDAR
VERSION:2.0
PRODID:-//wp-events-plugin.com//7.2.3.1//EN
TZID:Europe/Zurich
X-WR-TIMEZONE:Europe/Zurich
BEGIN:VEVENT
UID:168@psegg.ch
DTSTART;TZID=Europe/Zurich:20231209T090000
DTEND;TZID=Europe/Zurich:20231209T163000
DTSTAMP:20240117T082033Z
URL:https://www.psegg.ch/events/chlausschiessen-lindau-2/
SUMMARY:Chlausschiessen Lindau
DESCRIPTION:
CATEGORIES:Auswärts,Wettkampf
LOCATION:Schützenhaus Lindau\, Pistolenschützenverein Lindau\, 8315 Linda
 u\, Schweiz
GEO:47.441004;8.684224
X-APPLE-STRUCTURED-LOCATION;VALUE=URI;X-ADDRESS=Pistolenschützenverein Lin
 dau\, 8315 Lindau\, Schweiz;X-APPLE-RADIUS=100;X-TITLE=Schützenhaus Linda
 u:geo:47.441004,8.684224
END:VEVENT
BEGIN:VTIMEZONE
TZID:Europe/Zurich
X-LIC-LOCATION:Europe/Zurich
BEGIN:STANDARD
DTSTART:20231029T020000
TZOFFSETFROM:+0200
TZOFFSETTO:+0100
TZNAME:CET
END:STANDARD
END:VTIMEZONE
END:VCALENDAR