BEGIN:VCALENDAR
VERSION:2.0
PRODID:-//wp-events-plugin.com//7.2.3.1//EN
TZID:Europe/Zurich
X-WR-TIMEZONE:Europe/Zurich
BEGIN:VEVENT
UID:211@psegg.ch
DTSTART;TZID=Europe/Zurich:20240830T160000
DTEND;TZID=Europe/Zurich:20240830T200000
DTSTAMP:20240324T114612Z
URL:https://www.psegg.ch/events/bachtelianer-hinwil-7/
SUMMARY:Bachtelianer Hinwil
DESCRIPTION:
CATEGORIES:Auswärts,Wettkampf
LOCATION:Schützenhaus Betzholz\, Schützenhaus Betzholz\, 8340 Hinwil\, Sc
 hweiz
GEO:47.288695;8.814546
X-APPLE-STRUCTURED-LOCATION;VALUE=URI;X-ADDRESS=Schützenhaus Betzholz\, 83
 40 Hinwil\, Schweiz;X-APPLE-RADIUS=100;X-TITLE=Schützenhaus Betzholz:geo:
 47.288695,8.814546
END:VEVENT
BEGIN:VTIMEZONE
TZID:Europe/Zurich
X-LIC-LOCATION:Europe/Zurich
BEGIN:DAYLIGHT
DTSTART:20240331T030000
TZOFFSETFROM:+0100
TZOFFSETTO:+0200
TZNAME:CEST
END:DAYLIGHT
END:VTIMEZONE
END:VCALENDAR